BEGIN:VCALENDAR
VERSION:2.0
PRODID:-//Ça Cirkule - ECPv6.8.2.1//NONSGML v1.0//EN
CALSCALE:GREGORIAN
METHOD:PUBLISH
X-ORIGINAL-URL:https://www.cacirkule.com
X-WR-CALDESC:Évènements pour Ça Cirkule
REFRESH-INTERVAL;VALUE=DURATION:PT1H
X-Robots-Tag:noindex
X-PUBLISHED-TTL:PT1H
BEGIN:VTIMEZONE
TZID:Europe/Paris
BEGIN:DAYLIGHT
TZOFFSETFROM:+0100
TZOFFSETTO:+0200
TZNAME:CEST
DTSTART:20260329T010000
END:DAYLIGHT
BEGIN:STANDARD
TZOFFSETFROM:+0200
TZOFFSETTO:+0100
TZNAME:CET
DTSTART:20261025T010000
END:STANDARD
END:VTIMEZONE
BEGIN:VEVENT
DTSTART;TZID=Europe/Paris:20260420T100000
DTEND;TZID=Europe/Paris:20260424T120000
DTSTAMP:20260420T050643
CREATED:20250919T082200Z
LAST-MODIFIED:20250919T082200Z
UID:4439-1776679200-1777032000@www.cacirkule.com
SUMMARY:Stage de cirque 4/7 ans
DESCRIPTION:Du du 20 au 24 avril\, tous les jours de 10h à 12h. \n  \nPlus qu’une découverte\, c’est un voyage au cœur des arts du cirque que l’équipe vous propose de partager. Maîtrise du corps dans l’espace\, agilité\, équilibre\, prise de risque et créativité sont les thèmes qui sont abordés à travers des exercices et des mises en situation toujours ludiques. \n  \nDossier et règlement le premier jour du stage. \nTarifs: 80 € la semaine + 15 € d’adhésion annuelle à l’association (adhésion valable de septembre à septembre). \nDossier: Fiche de renseignement\, décharge santé et règlement intérieur téléchargeables sur notre page d’accueil. \nPour plus d’information veuillez contacter Stéphane au 07.82.03.50.71
URL:https://www.cacirkule.com/evenement/stage-de-cirque-4-7-ansavril-3-2/
LOCATION:Gymnase Léo Lagrange\, Chemin du Chioulet\, Cugnaux\, 31270\, France
ATTACH;FMTTYPE=image/jpeg:https://www.cacirkule.com/wp-content/uploads/2024/09/06__photo-cacirkule-com.jpg
ORGANIZER;CN="St%C3%A9phane":MAILTO:cacirkule@gmail.com
END:VEVENT
BEGIN:VEVENT
DTSTART;TZID=Europe/Paris:20260420T140000
DTEND;TZID=Europe/Paris:20260424T170000
DTSTAMP:20260420T050643
CREATED:20250919T081619Z
LAST-MODIFIED:20250919T081619Z
UID:4432-1776693600-1777050000@www.cacirkule.com
SUMMARY:Stage de cirque 8 ans et +
DESCRIPTION:Du 20 au 24 avril\, tous les jours de 14h à 17h. . \n  \nPlus qu’une découverte\, c’est un voyage au cœur des arts du cirque que l’équipe vous propose de partager. Maîtrise du corps dans l’espace\, agilité\, équilibre\, prise de risque et créativité sont les thèmes qui sont abordés à travers des exercices et des mises en situation toujours ludiques. \n  \nDossier et règlement le premier jour du stage.\nTarifs: 110 € la semaine + 15 € d’adhésion annuelle à l’association (adhésion valable de septembre à septembre). \nDossier: Fiche de renseignement\, décharge santé et règlement intérieur téléchargeables sur notre page d’accueil. \nPour plus d’information veuillez contacter Stéphane au 07.82.03.50.71
URL:https://www.cacirkule.com/evenement/stage-de-cirque-8-ans-etavril/
LOCATION:Gymnase Léo Lagrange\, Chemin du Chioulet\, Cugnaux\, 31270\, France
CATEGORIES:cirque
ATTACH;FMTTYPE=image/jpeg:https://www.cacirkule.com/wp-content/uploads/2010/11/IMG_2350.jpg
ORGANIZER;CN="St%C3%A9phane":MAILTO:cacirkule@gmail.com
END:VEVENT
BEGIN:VEVENT
DTSTART;TZID=Europe/Paris:20260427T100000
DTEND;TZID=Europe/Paris:20260430T120000
DTSTAMP:20260420T050643
CREATED:20260316T074520Z
LAST-MODIFIED:20260316T074520Z
UID:4484-1777284000-1777550400@www.cacirkule.com
SUMMARY:Stage de cirque 4/7 ans
DESCRIPTION:Du du 27 au 30 avril\, tous les jours de 10h à 12h. \n  \nPlus qu’une découverte\, c’est un voyage au cœur des arts du cirque que l’équipe vous propose de partager. Maîtrise du corps dans l’espace\, agilité\, équilibre\, prise de risque et créativité sont les thèmes qui sont abordés à travers des exercices et des mises en situation toujours ludiques. \n  \nDossier et règlement le premier jour du stage. \nTarifs: 70 € la semaine + 15 € d’adhésion annuelle à l’association (adhésion valable de septembre à septembre). \nDossier: Fiche de renseignement\, décharge santé et règlement intérieur téléchargeables sur notre page d’accueil. \nPour plus d’information veuillez contacter Stéphane au 07.82.03.50.71
URL:https://www.cacirkule.com/evenement/stage-de-cirque-4-7-ansavril-4-2-2/
LOCATION:Gymnase Léo Lagrange\, Chemin du Chioulet\, Cugnaux\, 31270\, France
ATTACH;FMTTYPE=image/jpeg:https://www.cacirkule.com/wp-content/uploads/2024/09/14__photo-cacirkule-com.jpg
ORGANIZER;CN="St%C3%A9phane":MAILTO:cacirkule@gmail.com
END:VEVENT
BEGIN:VEVENT
DTSTART;TZID=Europe/Paris:20260706T100000
DTEND;TZID=Europe/Paris:20260710T120000
DTSTAMP:20260420T050643
CREATED:20260331T065318Z
LAST-MODIFIED:20260331T065318Z
UID:4486-1783332000-1783684800@www.cacirkule.com
SUMMARY:Stage de cirque 4/7 ans
DESCRIPTION:Du du 6 au 10 juillet\, tous les jours de 10h à 12h. \n  \nPlus qu’une découverte\, c’est un voyage au cœur des arts du cirque que l’équipe vous propose de partager. Maîtrise du corps dans l’espace\, agilité\, équilibre\, prise de risque et créativité sont les thèmes qui sont abordés à travers des exercices et des mises en situation toujours ludiques. \n  \nDossier et règlement le premier jour du stage. \nTarifs: 80 € la semaine + 15 € d’adhésion annuelle à l’association (adhésion valable de septembre à septembre). \nDossier: Fiche de renseignement\, décharge santé et règlement intérieur téléchargeables sur notre page d’accueil. \nPour plus d’information veuillez contacter Stéphane au 07.82.03.50.71
URL:https://www.cacirkule.com/evenement/stage-de-cirque-4-7-ans-juillet-1/
LOCATION:Gymnase Léo Lagrange\, Chemin du Chioulet\, Cugnaux\, 31270\, France
ATTACH;FMTTYPE=image/jpeg:https://www.cacirkule.com/wp-content/uploads/2024/09/14__photo-cacirkule-com.jpg
ORGANIZER;CN="St%C3%A9phane":MAILTO:cacirkule@gmail.com
END:VEVENT
BEGIN:VEVENT
DTSTART;TZID=Europe/Paris:20260706T140000
DTEND;TZID=Europe/Paris:20260710T170000
DTSTAMP:20260420T050643
CREATED:20260331T070915Z
LAST-MODIFIED:20260331T070915Z
UID:4496-1783346400-1783702800@www.cacirkule.com
SUMMARY:Stage de cirque 8 ans et +
DESCRIPTION:Du 6 au 10 juillet\, tous les jours de 14h à 17h. . \n  \nPlus qu’une découverte\, c’est un voyage au cœur des arts du cirque que l’équipe vous propose de partager. Maîtrise du corps dans l’espace\, agilité\, équilibre\, prise de risque et créativité sont les thèmes qui sont abordés à travers des exercices et des mises en situation toujours ludiques. \n  \nDossier et règlement le premier jour du stage.\nTarifs: 110 € la semaine + 15 € d’adhésion annuelle à l’association (adhésion valable de septembre à septembre). \nDossier: Fiche de renseignement\, décharge santé et règlement intérieur téléchargeables sur notre page d’accueil. \nPour plus d’information veuillez contacter Stéphane au 07.82.03.50.71
URL:https://www.cacirkule.com/evenement/stage-de-cirque-8-ans-etjuillet-1/
LOCATION:Gymnase Léo Lagrange\, Chemin du Chioulet\, Cugnaux\, 31270\, France
CATEGORIES:cirque
ATTACH;FMTTYPE=image/jpeg:https://www.cacirkule.com/wp-content/uploads/2010/11/IMG_2350.jpg
ORGANIZER;CN="St%C3%A9phane":MAILTO:cacirkule@gmail.com
END:VEVENT
BEGIN:VEVENT
DTSTART;TZID=Europe/Paris:20260715T100000
DTEND;TZID=Europe/Paris:20260717T170000
DTSTAMP:20260420T050643
CREATED:20260413T084948Z
LAST-MODIFIED:20260413T084948Z
UID:4511-1784109600-1784307600@www.cacirkule.com
SUMMARY:Stage de cirque ados + de 12 ans
DESCRIPTION:Du 15 au 17 juillet\, tous les jours de 10h à 17h. . \n  \nTrois jours de cirque intense\, pour découvrir\, se perfectionner et créer!!! Maîtrise du corps dans l’espace\, agilité\, équilibre\, prise de risque et créativité sont les thèmes qui sont abordés à travers des exercices et des mises en situation toujours ludiques. \nRepas froid à prévoir le midi\, gôuters pris en charge par l’association. \n  \nDossier et règlement le premier jour du stage.\nTarifs: 120 € les 3 jours + 15 € d’adhésion annuelle à l’association (adhésion valable de septembre à septembre). \nDossier: Fiche de renseignement\, décharge santé et règlement intérieur téléchargeables sur notre page d’accueil. \nPour plus d’information veuillez contacter Stéphane au 07.82.03.50.71
URL:https://www.cacirkule.com/evenement/stage-de-cirque-8-ans-etaout-2-2-2-2-2/
LOCATION:Gymnase Léo Lagrange\, Chemin du Chioulet\, Cugnaux\, 31270\, France
CATEGORIES:cirque
ATTACH;FMTTYPE=image/jpeg:https://www.cacirkule.com/wp-content/uploads/2010/11/IMG_2491.jpg
ORGANIZER;CN="St%C3%A9phane":MAILTO:cacirkule@gmail.com
END:VEVENT
BEGIN:VEVENT
DTSTART;TZID=Europe/Paris:20260720T100000
DTEND;TZID=Europe/Paris:20260724T120000
DTSTAMP:20260420T050643
CREATED:20260331T065730Z
LAST-MODIFIED:20260331T065841Z
UID:4488-1784541600-1784894400@www.cacirkule.com
SUMMARY:Stage de cirque 4/7 ans
DESCRIPTION:Du du 20 au 24  juillet\, tous les jours de 10h à 12h. \n  \nPlus qu’une découverte\, c’est un voyage au cœur des arts du cirque que l’équipe vous propose de partager. Maîtrise du corps dans l’espace\, agilité\, équilibre\, prise de risque et créativité sont les thèmes qui sont abordés à travers des exercices et des mises en situation toujours ludiques. \n  \nDossier et règlement le premier jour du stage. \nTarifs: 80 € la semaine + 15 € d’adhésion annuelle à l’association (adhésion valable de septembre à septembre). \nDossier: Fiche de renseignement\, décharge santé et règlement intérieur téléchargeables sur notre page d’accueil. \nPour plus d’information veuillez contacter Stéphane au 07.82.03.50.71
URL:https://www.cacirkule.com/evenement/stage-de-cirque-4-7-ans-juillet-3-2-2/
LOCATION:Gymnase Léo Lagrange\, Chemin du Chioulet\, Cugnaux\, 31270\, France
ATTACH;FMTTYPE=image/jpeg:https://www.cacirkule.com/wp-content/uploads/2024/09/15__photo-cacirkule-com.jpg
ORGANIZER;CN="St%C3%A9phane":MAILTO:cacirkule@gmail.com
END:VEVENT
BEGIN:VEVENT
DTSTART;TZID=Europe/Paris:20260720T140000
DTEND;TZID=Europe/Paris:20260724T170000
DTSTAMP:20260420T050643
CREATED:20260331T071100Z
LAST-MODIFIED:20260331T071100Z
UID:4499-1784556000-1784912400@www.cacirkule.com
SUMMARY:Stage de cirque 8 ans et +
DESCRIPTION:Du 20 au 24 juillet\, tous les jours de 14h à 17h. . \n  \nPlus qu’une découverte\, c’est un voyage au cœur des arts du cirque que l’équipe vous propose de partager. Maîtrise du corps dans l’espace\, agilité\, équilibre\, prise de risque et créativité sont les thèmes qui sont abordés à travers des exercices et des mises en situation toujours ludiques. \n  \nDossier et règlement le premier jour du stage.\nTarifs: 110 € la semaine + 15 € d’adhésion annuelle à l’association (adhésion valable de septembre à septembre). \nDossier: Fiche de renseignement\, décharge santé et règlement intérieur téléchargeables sur notre page d’accueil. \nPour plus d’information veuillez contacter Stéphane au 07.82.03.50.71
URL:https://www.cacirkule.com/evenement/stage-de-cirque-8-ans-etjuillet-3-2/
LOCATION:Gymnase Léo Lagrange\, Chemin du Chioulet\, Cugnaux\, 31270\, France
CATEGORIES:cirque
ATTACH;FMTTYPE=image/jpeg:https://www.cacirkule.com/wp-content/uploads/2024/09/Acrobatie.jpg
ORGANIZER;CN="St%C3%A9phane":MAILTO:cacirkule@gmail.com
END:VEVENT
BEGIN:VEVENT
DTSTART;TZID=Europe/Paris:20260727T100000
DTEND;TZID=Europe/Paris:20260731T120000
DTSTAMP:20260420T050643
CREATED:20260331T070049Z
LAST-MODIFIED:20260413T084044Z
UID:4490-1785146400-1785499200@www.cacirkule.com
SUMMARY:Stage de cirque 4/7 ans
DESCRIPTION:Du du 27 au 31  juillet\, tous les jours de 10h à 12h. \n  \nPlus qu’une découverte\, c’est un voyage au cœur des arts du cirque que l’équipe vous propose de partager. Maîtrise du corps dans l’espace\, agilité\, équilibre\, prise de risque et créativité sont les thèmes qui sont abordés à travers des exercices et des mises en situation toujours ludiques. \n  \nDossier et règlement le premier jour du stage. \nTarifs: 80 € la semaine + 15 € d’adhésion annuelle à l’association (adhésion valable de septembre à septembre). \nDossier: Fiche de renseignement\, décharge santé et règlement intérieur téléchargeables sur notre page d’accueil. \nPour plus d’information veuillez contacter Stéphane au 07.82.03.50.71
URL:https://www.cacirkule.com/evenement/stage-de-cirque-4-7-ans-juillet-4-2/
LOCATION:Gymnase Léo Lagrange\, Chemin du Chioulet\, Cugnaux\, 31270\, France
ATTACH;FMTTYPE=image/jpeg:https://www.cacirkule.com/wp-content/uploads/2024/09/11__photo-cacirkule-com.jpg
ORGANIZER;CN="St%C3%A9phane":MAILTO:cacirkule@gmail.com
END:VEVENT
BEGIN:VEVENT
DTSTART;TZID=Europe/Paris:20260727T140000
DTEND;TZID=Europe/Paris:20260731T170000
DTSTAMP:20260420T050643
CREATED:20260331T071258Z
LAST-MODIFIED:20260413T084010Z
UID:4502-1785160800-1785517200@www.cacirkule.com
SUMMARY:Stage de cirque 8 ans et +
DESCRIPTION:Du 27 au 31 juillet\, tous les jours de 14h à 17h. . \n  \nPlus qu’une découverte\, c’est un voyage au cœur des arts du cirque que l’équipe vous propose de partager. Maîtrise du corps dans l’espace\, agilité\, équilibre\, prise de risque et créativité sont les thèmes qui sont abordés à travers des exercices et des mises en situation toujours ludiques. \n  \nDossier et règlement le premier jour du stage.\nTarifs: 110 € la semaine + 15 € d’adhésion annuelle à l’association (adhésion valable de septembre à septembre). \nDossier: Fiche de renseignement\, décharge santé et règlement intérieur téléchargeables sur notre page d’accueil. \nPour plus d’information veuillez contacter Stéphane au 07.82.03.50.71
URL:https://www.cacirkule.com/evenement/stage-de-cirque-8-ans-etjuillet-4-2-2/
LOCATION:Gymnase Léo Lagrange\, Chemin du Chioulet\, Cugnaux\, 31270\, France
CATEGORIES:cirque
ATTACH;FMTTYPE=image/jpeg:https://www.cacirkule.com/wp-content/uploads/2010/11/18-cacirkule-com-images.jpg
ORGANIZER;CN="St%C3%A9phane":MAILTO:cacirkule@gmail.com
END:VEVENT
BEGIN:VEVENT
DTSTART;TZID=Europe/Paris:20260817T100000
DTEND;TZID=Europe/Paris:20260821T120000
DTSTAMP:20260420T050643
CREATED:20260331T070320Z
LAST-MODIFIED:20260331T070320Z
UID:4492-1786960800-1787313600@www.cacirkule.com
SUMMARY:Stage de cirque 4/7 ans
DESCRIPTION:Du du 17 au 21 août\, tous les jours de 10h à 12h. \n  \nPlus qu’une découverte\, c’est un voyage au cœur des arts du cirque que l’équipe vous propose de partager. Maîtrise du corps dans l’espace\, agilité\, équilibre\, prise de risque et créativité sont les thèmes qui sont abordés à travers des exercices et des mises en situation toujours ludiques. \n  \nDossier et règlement le premier jour du stage. \nTarifs: 80 € la semaine + 15 € d’adhésion annuelle à l’association (adhésion valable de septembre à septembre). \nDossier: Fiche de renseignement\, décharge santé et règlement intérieur téléchargeables sur notre page d’accueil. \nPour plus d’information veuillez contacter Stéphane au 07.82.03.50.71
URL:https://www.cacirkule.com/evenement/stage-de-cirque-4-7-ans-aout-1-2-2/
LOCATION:Gymnase Léo Lagrange\, Chemin du Chioulet\, Cugnaux\, 31270\, France
ATTACH;FMTTYPE=image/jpeg:https://www.cacirkule.com/wp-content/uploads/2010/11/IMG_1483.jpg
ORGANIZER;CN="St%C3%A9phane":MAILTO:cacirkule@gmail.com
END:VEVENT
BEGIN:VEVENT
DTSTART;TZID=Europe/Paris:20260817T140000
DTEND;TZID=Europe/Paris:20260821T170000
DTSTAMP:20260420T050643
CREATED:20260331T071722Z
LAST-MODIFIED:20260331T071722Z
UID:4505-1786975200-1787331600@www.cacirkule.com
SUMMARY:Stage de cirque 8 ans et +
DESCRIPTION:Du 17 au 21 août\, tous les jours de 14h à 17h. . \n  \nPlus qu’une découverte\, c’est un voyage au cœur des arts du cirque que l’équipe vous propose de partager. Maîtrise du corps dans l’espace\, agilité\, équilibre\, prise de risque et créativité sont les thèmes qui sont abordés à travers des exercices et des mises en situation toujours ludiques. \n  \nDossier et règlement le premier jour du stage.\nTarifs: 110 € la semaine + 15 € d’adhésion annuelle à l’association (adhésion valable de septembre à septembre). \nDossier: Fiche de renseignement\, décharge santé et règlement intérieur téléchargeables sur notre page d’accueil. \nPour plus d’information veuillez contacter Stéphane au 07.82.03.50.71
URL:https://www.cacirkule.com/evenement/stage-de-cirque-8-ans-etaout-1-2-2/
LOCATION:Gymnase Léo Lagrange\, Chemin du Chioulet\, Cugnaux\, 31270\, France
CATEGORIES:cirque
ATTACH;FMTTYPE=image/jpeg:https://www.cacirkule.com/wp-content/uploads/2010/11/IMG_2283.jpg
ORGANIZER;CN="St%C3%A9phane":MAILTO:cacirkule@gmail.com
END:VEVENT
BEGIN:VEVENT
DTSTART;TZID=Europe/Paris:20260824T100000
DTEND;TZID=Europe/Paris:20260828T120000
DTSTAMP:20260420T050643
CREATED:20260331T070505Z
LAST-MODIFIED:20260331T070505Z
UID:4494-1787565600-1787918400@www.cacirkule.com
SUMMARY:Stage de cirque 4/7 ans
DESCRIPTION:Du du 24 au 28 août\, tous les jours de 10h à 12h. \n  \nPlus qu’une découverte\, c’est un voyage au cœur des arts du cirque que l’équipe vous propose de partager. Maîtrise du corps dans l’espace\, agilité\, équilibre\, prise de risque et créativité sont les thèmes qui sont abordés à travers des exercices et des mises en situation toujours ludiques. \n  \nDossier et règlement le premier jour du stage. \nTarifs: 80 € la semaine + 15 € d’adhésion annuelle à l’association (adhésion valable de septembre à septembre). \nDossier: Fiche de renseignement\, décharge santé et règlement intérieur téléchargeables sur notre page d’accueil. \nPour plus d’information veuillez contacter Stéphane au 07.82.03.50.71
URL:https://www.cacirkule.com/evenement/stage-de-cirque-4-7-ans-aout-2-2-2-2/
LOCATION:Gymnase Léo Lagrange\, Chemin du Chioulet\, Cugnaux\, 31270\, France
ATTACH;FMTTYPE=image/jpeg:https://www.cacirkule.com/wp-content/uploads/2010/11/28-cacirkule-com-images.jpg
ORGANIZER;CN="St%C3%A9phane":MAILTO:cacirkule@gmail.com
END:VEVENT
BEGIN:VEVENT
DTSTART;TZID=Europe/Paris:20260824T140000
DTEND;TZID=Europe/Paris:20260828T170000
DTSTAMP:20260420T050643
CREATED:20260331T071948Z
LAST-MODIFIED:20260331T071948Z
UID:4508-1787580000-1787936400@www.cacirkule.com
SUMMARY:Stage de cirque 8 ans et +
DESCRIPTION:Du 24 au 31 août\, tous les jours de 14h à 17h. . \n  \nPlus qu’une découverte\, c’est un voyage au cœur des arts du cirque que l’équipe vous propose de partager. Maîtrise du corps dans l’espace\, agilité\, équilibre\, prise de risque et créativité sont les thèmes qui sont abordés à travers des exercices et des mises en situation toujours ludiques. \n  \nDossier et règlement le premier jour du stage.\nTarifs: 110 € la semaine + 15 € d’adhésion annuelle à l’association (adhésion valable de septembre à septembre). \nDossier: Fiche de renseignement\, décharge santé et règlement intérieur téléchargeables sur notre page d’accueil. \nPour plus d’information veuillez contacter Stéphane au 07.82.03.50.71
URL:https://www.cacirkule.com/evenement/stage-de-cirque-8-ans-etaout-2-2-2-2/
LOCATION:Gymnase Léo Lagrange\, Chemin du Chioulet\, Cugnaux\, 31270\, France
CATEGORIES:cirque
ATTACH;FMTTYPE=image/jpeg:https://www.cacirkule.com/wp-content/uploads/2019/05/IMG_2278.jpg
ORGANIZER;CN="St%C3%A9phane":MAILTO:cacirkule@gmail.com
END:VEVENT
END:VCALENDAR