BEGIN:VCALENDAR
VERSION:2.0
PRODID:-//Ça Cirkule - ECPv6.8.2.1//NONSGML v1.0//EN
CALSCALE:GREGORIAN
METHOD:PUBLISH
X-ORIGINAL-URL:https://www.cacirkule.com
X-WR-CALDESC:Évènements pour Ça Cirkule
REFRESH-INTERVAL;VALUE=DURATION:PT1H
X-Robots-Tag:noindex
X-PUBLISHED-TTL:PT1H
BEGIN:VTIMEZONE
TZID:Europe/Paris
BEGIN:DAYLIGHT
TZOFFSETFROM:+0100
TZOFFSETTO:+0200
TZNAME:CEST
DTSTART:20260329T010000
END:DAYLIGHT
BEGIN:STANDARD
TZOFFSETFROM:+0200
TZOFFSETTO:+0100
TZNAME:CET
DTSTART:20261025T010000
END:STANDARD
END:VTIMEZONE
BEGIN:VEVENT
DTSTART;TZID=Europe/Paris:20260715T100000
DTEND;TZID=Europe/Paris:20260717T170000
DTSTAMP:20260423T165959
CREATED:20260413T084948Z
LAST-MODIFIED:20260413T084948Z
UID:4511-1784109600-1784307600@www.cacirkule.com
SUMMARY:Stage de cirque ados + de 12 ans
DESCRIPTION:Du 15 au 17 juillet\, tous les jours de 10h à 17h. . \n  \nTrois jours de cirque intense\, pour découvrir\, se perfectionner et créer!!! Maîtrise du corps dans l’espace\, agilité\, équilibre\, prise de risque et créativité sont les thèmes qui sont abordés à travers des exercices et des mises en situation toujours ludiques. \nRepas froid à prévoir le midi\, gôuters pris en charge par l’association. \n  \nDossier et règlement le premier jour du stage.\nTarifs: 120 € les 3 jours + 15 € d’adhésion annuelle à l’association (adhésion valable de septembre à septembre). \nDossier: Fiche de renseignement\, décharge santé et règlement intérieur téléchargeables sur notre page d’accueil. \nPour plus d’information veuillez contacter Stéphane au 07.82.03.50.71
URL:https://www.cacirkule.com/evenement/stage-de-cirque-8-ans-etaout-2-2-2-2-2/
LOCATION:Gymnase Léo Lagrange\, Chemin du Chioulet\, Cugnaux\, 31270\, France
CATEGORIES:cirque
ATTACH;FMTTYPE=image/jpeg:https://www.cacirkule.com/wp-content/uploads/2010/11/IMG_2491.jpg
ORGANIZER;CN="St%C3%A9phane":MAILTO:cacirkule@gmail.com
END:VEVENT
END:VCALENDAR