BEGIN:VCALENDAR
VERSION:2.0
PRODID:-//Ça Cirkule - ECPv6.8.2.1//NONSGML v1.0//EN
CALSCALE:GREGORIAN
METHOD:PUBLISH
X-ORIGINAL-URL:https://www.cacirkule.com
X-WR-CALDESC:Évènements pour Ça Cirkule
REFRESH-INTERVAL;VALUE=DURATION:PT1H
X-Robots-Tag:noindex
X-PUBLISHED-TTL:PT1H
BEGIN:VTIMEZONE
TZID:Europe/Paris
BEGIN:DAYLIGHT
TZOFFSETFROM:+0100
TZOFFSETTO:+0200
TZNAME:CEST
DTSTART:20250330T010000
END:DAYLIGHT
BEGIN:STANDARD
TZOFFSETFROM:+0200
TZOFFSETTO:+0100
TZNAME:CET
DTSTART:20251026T010000
END:STANDARD
END:VTIMEZONE
BEGIN:VEVENT
DTSTART;TZID=Europe/Paris:20251222T103000
DTEND;TZID=Europe/Paris:20251223T170000
DTSTAMP:20260425T054043
CREATED:20250930T083906Z
LAST-MODIFIED:20251016T085033Z
UID:4456-1766399400-1766509200@www.cacirkule.com
SUMMARY:Cirque en famille "Noël"
DESCRIPTION:Durant les vacances de Noël\, les 22 et 23 décembre\, l’école de cirque vous propose 2 journées “cirque en famille” avec des formules différentes selon l’âge de votre (de vos) enfant(s) : \n\nPour les 2-4 ans : de 10h30 à 12h00\, 15€ /enfant\n\nCe atelier utilise les agrès de cirque comme prétexte ludique d’expériences corporelles\, d’éveil des sens et d’exploration motrice\, pour faire découvrir à chaque enfant ses potentialités corporelles et prendre des risques à son niveau\, en toute sécurité et rassuré par la présence de papa et/ou maman.  Chaque parent sera là en accompagnant bienveillant auprès de leur enfant et le but sera d’apprendre à trouver la juste distance avec son enfant pour l’accompagner vers l’autonomie dans ses explorations et ses prises de risques… \n\nA partir de 5 ans révolu: de 14h à 16h\, 20€ /enfant\n\nBasé sur la complicité\, la confiance et le « faire ensemble »\, ce moment a pour vocation de faire prendre conscience aux apprentis circassiens\, les enfants comme les parents\, de leurs corps\, de celui de l’autre\, avec ses possibles et ses limites. Grâce à des jeux d’expression corporelle\, d’adresse\, d’équilibre et de coopération\, cette après-midi sera ainsi l’occasion de passer un moment ludique de plaisir et de partage en famille. \nPossibilité de faire les 2 jours. \nSi vous êtes intéressé\, merci d’envoyer un mail avec votre nom\, prénom ainsi que celui de votre enfant avec l’âge de votre enfant et la 1/2 journée choisi. \nInscriptions par mail : cacirkule@gmail.com. \n+20€/  d’adhésion familiale annuelle à l’association ( adhésion valable de septembre à septembre )
URL:https://www.cacirkule.com/evenement/cirque-en-famille-4-9-2-2-2/
LOCATION:Gymnase Léo Lagrange\, Chemin du Chioulet\, Cugnaux\, 31270\, France
CATEGORIES:cirque
ATTACH;FMTTYPE=image/jpeg:https://www.cacirkule.com/wp-content/uploads/2024/09/cirqueenfamille.jpg
ORGANIZER;CN="St%C3%A9phane":MAILTO:cacirkule@gmail.com
END:VEVENT
END:VCALENDAR