BEGIN:VCALENDAR
VERSION:2.0
PRODID:-//Ça Cirkule - ECPv6.8.2.1//NONSGML v1.0//EN
CALSCALE:GREGORIAN
METHOD:PUBLISH
X-ORIGINAL-URL:https://www.cacirkule.com
X-WR-CALDESC:Évènements pour Ça Cirkule
REFRESH-INTERVAL;VALUE=DURATION:PT1H
X-Robots-Tag:noindex
X-PUBLISHED-TTL:PT1H
BEGIN:VTIMEZONE
TZID:Europe/Paris
BEGIN:DAYLIGHT
TZOFFSETFROM:+0100
TZOFFSETTO:+0200
TZNAME:CEST
DTSTART:20250330T010000
END:DAYLIGHT
BEGIN:STANDARD
TZOFFSETFROM:+0200
TZOFFSETTO:+0100
TZNAME:CET
DTSTART:20251026T010000
END:STANDARD
END:VTIMEZONE
BEGIN:VEVENT
DTSTART;TZID=Europe/Paris:20250715T100000
DTEND;TZID=Europe/Paris:20250718T120000
DTSTAMP:20260425T122845
CREATED:20250303T090519Z
LAST-MODIFIED:20250618T090444Z
UID:4310-1752573600-1752840000@www.cacirkule.com
SUMMARY:Stage de cirque 4/7 ans
DESCRIPTION:Du 15 au 18 juillet\, tous les jours de 10h à 12h. \n  \nPlus qu’une découverte\, c’est un voyage au cœur des arts du cirque que l’équipe vous propose de partager. Maîtrise du corps dans l’espace\, agilité\, équilibre\, prise de risque et créativité sont les thèmes qui sont abordés à travers des exercices et des mises en situation toujours ludiques. \n  \nDossier et règlement le premier jour du stage. \nTarifs: 70 € la semaine + 15 € d’adhésion annuelle à l’association (adhésion valable de septembre à septembre). \nDossier: Fiche de renseignement\, décharge santé et règlement intérieur téléchargeables sur notre page d’accueil. \nPour plus d’information veuillez contacter Stéphane au 07.82.03.50.71
URL:https://www.cacirkule.com/evenement/stage-de-cirque-4-7-ansjuil2-2/
LOCATION:Gymnase Léo Lagrange\, Chemin du Chioulet\, Cugnaux\, 31270\, France
ATTACH;FMTTYPE=image/jpeg:https://www.cacirkule.com/wp-content/uploads/2010/11/IMG_2491.jpg
ORGANIZER;CN="St%C3%A9phane":MAILTO:cacirkule@gmail.com
END:VEVENT
BEGIN:VEVENT
DTSTART;TZID=Europe/Paris:20250715T140000
DTEND;TZID=Europe/Paris:20250718T170000
DTSTAMP:20260425T122845
CREATED:20250303T084354Z
LAST-MODIFIED:20250618T090525Z
UID:4294-1752588000-1752858000@www.cacirkule.com
SUMMARY:Stage de cirque 8 ans et +
DESCRIPTION:Du 15 au 18 juillet\, tous les jours de 14h à 17h. . \n  \nPlus qu’une découverte\, c’est un voyage au cœur des arts du cirque que l’équipe vous propose de partager. Maîtrise du corps dans l’espace\, agilité\, équilibre\, prise de risque et créativité sont les thèmes qui sont abordés à travers des exercices et des mises en situation toujours ludiques. \n  \nDossier et règlement le premier jour du stage.\nTarifs: 95 € la semaine + 15 € d’adhésion annuelle à l’association (adhésion valable de septembre à septembre). \nDossier: Fiche de renseignement\, décharge santé et règlement intérieur téléchargeables sur notre page d’accueil. \nPour plus d’information veuillez contacter Stéphane au 07.82.03.50.71
URL:https://www.cacirkule.com/evenement/stage-de-cirque-8-ans-etjuil2-2/
LOCATION:Gymnase Léo Lagrange\, Chemin du Chioulet\, Cugnaux\, 31270\, France
CATEGORIES:cirque
ATTACH;FMTTYPE=image/png:https://www.cacirkule.com/wp-content/uploads/2024/09/spectacle-de-fin-dannee-2023-2024-des-12-ans-et-plus-ados-2-cacirkulecom.png
ORGANIZER;CN="St%C3%A9phane":MAILTO:cacirkule@gmail.com
END:VEVENT
END:VCALENDAR